BEGIN:VCALENDAR
VERSION:2.0
PRODID:-//EVORA - ECPv6.15.20//NONSGML v1.0//EN
CALSCALE:GREGORIAN
METHOD:PUBLISH
X-WR-CALNAME:EVORA
X-ORIGINAL-URL:https://evoralv.com
X-WR-CALDESC:Events for EVORA
REFRESH-INTERVAL;VALUE=DURATION:PT1H
X-Robots-Tag:noindex
X-PUBLISHED-TTL:PT1H
BEGIN:VTIMEZONE
TZID:America/Los_Angeles
BEGIN:DAYLIGHT
TZOFFSETFROM:-0800
TZOFFSETTO:-0700
TZNAME:PDT
DTSTART:20250309T100000
END:DAYLIGHT
BEGIN:STANDARD
TZOFFSETFROM:-0700
TZOFFSETTO:-0800
TZNAME:PST
DTSTART:20251102T090000
END:STANDARD
BEGIN:DAYLIGHT
TZOFFSETFROM:-0800
TZOFFSETTO:-0700
TZNAME:PDT
DTSTART:20260308T100000
END:DAYLIGHT
BEGIN:STANDARD
TZOFFSETFROM:-0700
TZOFFSETTO:-0800
TZNAME:PST
DTSTART:20261101T090000
END:STANDARD
BEGIN:DAYLIGHT
TZOFFSETFROM:-0800
TZOFFSETTO:-0700
TZNAME:PDT
DTSTART:20270314T100000
END:DAYLIGHT
BEGIN:STANDARD
TZOFFSETFROM:-0700
TZOFFSETTO:-0800
TZNAME:PST
DTSTART:20271107T090000
END:STANDARD
END:VTIMEZONE
BEGIN:VEVENT
DTSTART;TZID=America/Los_Angeles:20260415T180000
DTEND;TZID=America/Los_Angeles:20260415T190000
DTSTAMP:20260421T011743
CREATED:20260410T170250Z
LAST-MODIFIED:20260410T170250Z
UID:10000254-1776276000-1776279600@evoralv.com
SUMMARY:Intro to Pilates with Inferno Hot Pilates
DESCRIPTION:Evora Residents\, you are invited to the Evora Yoga Studio on Wednesday April 15 at 6pm for a complimentary introductory Pilates class taught by Inferno Hot Pilates. This is the perfect mid-week wind down especially if you just filed your taxes and need a little stress relief. RSVP your spot to Concierge@EvoraLV.com.
URL:https://evoralv.com/event/intro-to-pilates-with-inferno-hot-pilates/
LOCATION:Evora Yoga Studio\, 6111 S Buffalo Drive\, Suite 218\, Las Vegas\, 89113\, United States
ATTACH;FMTTYPE=image/png:https://evoralv.com/wp-content/uploads/2026/04/Intro-to-Pilates-4.15-1600-x-900-px.png
END:VEVENT
END:VCALENDAR