BEGIN:VCALENDAR
VERSION:2.0
PRODID:-//EVORA - ECPv6.15.20//NONSGML v1.0//EN
CALSCALE:GREGORIAN
METHOD:PUBLISH
X-WR-CALNAME:EVORA
X-ORIGINAL-URL:https://evoralv.com
X-WR-CALDESC:Events for EVORA
REFRESH-INTERVAL;VALUE=DURATION:PT1H
X-Robots-Tag:noindex
X-PUBLISHED-TTL:PT1H
BEGIN:VTIMEZONE
TZID:America/Los_Angeles
BEGIN:DAYLIGHT
TZOFFSETFROM:-0800
TZOFFSETTO:-0700
TZNAME:PDT
DTSTART:20250309T100000
END:DAYLIGHT
BEGIN:STANDARD
TZOFFSETFROM:-0700
TZOFFSETTO:-0800
TZNAME:PST
DTSTART:20251102T090000
END:STANDARD
BEGIN:DAYLIGHT
TZOFFSETFROM:-0800
TZOFFSETTO:-0700
TZNAME:PDT
DTSTART:20260308T100000
END:DAYLIGHT
BEGIN:STANDARD
TZOFFSETFROM:-0700
TZOFFSETTO:-0800
TZNAME:PST
DTSTART:20261101T090000
END:STANDARD
BEGIN:DAYLIGHT
TZOFFSETFROM:-0800
TZOFFSETTO:-0700
TZNAME:PDT
DTSTART:20270314T100000
END:DAYLIGHT
BEGIN:STANDARD
TZOFFSETFROM:-0700
TZOFFSETTO:-0800
TZNAME:PST
DTSTART:20271107T090000
END:STANDARD
END:VTIMEZONE
BEGIN:VEVENT
DTSTART;TZID=America/Los_Angeles:20260429T181500
DTEND;TZID=America/Los_Angeles:20260429T193000
DTSTAMP:20260421T011941
CREATED:20260420T172819Z
LAST-MODIFIED:20260420T172819Z
UID:10000256-1777486500-1777491000@evoralv.com
SUMMARY:Silent Yoga at Sunset
DESCRIPTION:Reset\, recharge\, and find calm at silent yoga at the Evora performance pavilion on April 29 from 6:15 to 7:30. Headphones will be provided in this event led by Inferno Hot Pilates. Please RSVP your spot to Concierge@EvoraLV.com and bring your own yoga mat.
URL:https://evoralv.com/event/silent-yoga-at-sunset/
LOCATION:EVORA Performance Pavilion\, 6111 S Buffalo Drive\, Las Vegas\, NV\, 89113\, United States
ATTACH;FMTTYPE=image/png:https://evoralv.com/wp-content/uploads/2026/04/Sunset-Yoga-4.29-1600-x-900-px.png
END:VEVENT
END:VCALENDAR